BEGIN:VCALENDAR
VERSION:2.0
PRODID:-//Savoury Kitchen, Park City&#039;s Premier Catering Company. Hot Food for Delivery or Pickup - ECPv6.11.2.1//NONSGML v1.0//EN
CALSCALE:GREGORIAN
METHOD:PUBLISH
X-WR-CALNAME:Savoury Kitchen, Park City&#039;s Premier Catering Company. Hot Food for Delivery or Pickup
X-ORIGINAL-URL:https://savouryparkcity.com
X-WR-CALDESC:Events for Savoury Kitchen, Park City&#039;s Premier Catering Company. Hot Food for Delivery or Pickup
REFRESH-INTERVAL;VALUE=DURATION:PT1H
X-Robots-Tag:noindex
X-PUBLISHED-TTL:PT1H
BEGIN:VTIMEZONE
TZID:UTC
BEGIN:STANDARD
TZOFFSETFROM:+0000
TZOFFSETTO:+0000
TZNAME:UTC
DTSTART:20240101T000000
END:STANDARD
END:VTIMEZONE
BEGIN:VEVENT
DTSTART;TZID=UTC:20241227T180000
DTEND;TZID=UTC:20241227T190000
DTSTAMP:20260421T101145
CREATED:20241023T172651Z
LAST-MODIFIED:20241107T165326Z
UID:1929-1735322400-1735326000@savouryparkcity.com
SUMMARY:Gallery MAR Exhibition
DESCRIPTION:Enjoy fine art by America Martin and delicious bites by Savoury Kitchen
URL:https://savouryparkcity.com/event/gallery-mar-exhibition-3/
LOCATION:Gallery MAR\, 436 Main Street\, Park City\, UT\, 84060\, United States
END:VEVENT
END:VCALENDAR