BEGIN:VCALENDAR
VERSION:2.0
PRODID:-//Savoury Kitchen, Park City&#039;s Premier Catering Company. Hot Food for Delivery or Pickup - ECPv6.11.2.1//NONSGML v1.0//EN
CALSCALE:GREGORIAN
METHOD:PUBLISH
X-WR-CALNAME:Savoury Kitchen, Park City&#039;s Premier Catering Company. Hot Food for Delivery or Pickup
X-ORIGINAL-URL:https://savouryparkcity.com
X-WR-CALDESC:Events for Savoury Kitchen, Park City&#039;s Premier Catering Company. Hot Food for Delivery or Pickup
REFRESH-INTERVAL;VALUE=DURATION:PT1H
X-Robots-Tag:noindex
X-PUBLISHED-TTL:PT1H
BEGIN:VTIMEZONE
TZID:UTC
BEGIN:STANDARD
TZOFFSETFROM:+0000
TZOFFSETTO:+0000
TZNAME:UTC
DTSTART:20240101T000000
END:STANDARD
END:VTIMEZONE
BEGIN:VEVENT
DTSTART;VALUE=DATE:20241225
DTEND;VALUE=DATE:20241226
DTSTAMP:20260421T093940
CREATED:20241030T172743Z
LAST-MODIFIED:20241030T172914Z
UID:1953-1735084800-1735171199@savouryparkcity.com
SUMMARY:CLOSED - Christmas
DESCRIPTION:Savoury Kitchen is closed today and our staff couldn’t be happier. \nMerry Christmas everyone!
URL:https://savouryparkcity.com/event/closed/
LOCATION:UT
END:VEVENT
END:VCALENDAR