BEGIN:VCALENDAR
VERSION:2.0
PRODID:-//Savoury Kitchen, Park City&#039;s Premier Catering Company. Hot Food for Delivery or Pickup - ECPv6.11.2.1//NONSGML v1.0//EN
CALSCALE:GREGORIAN
METHOD:PUBLISH
X-ORIGINAL-URL:https://savouryparkcity.com
X-WR-CALDESC:Events for Savoury Kitchen, Park City&#039;s Premier Catering Company. Hot Food for Delivery or Pickup
REFRESH-INTERVAL;VALUE=DURATION:PT1H
X-Robots-Tag:noindex
X-PUBLISHED-TTL:PT1H
BEGIN:VTIMEZONE
TZID:UTC
BEGIN:STANDARD
TZOFFSETFROM:+0000
TZOFFSETTO:+0000
TZNAME:UTC
DTSTART:20240101T000000
END:STANDARD
END:VTIMEZONE
BEGIN:VEVENT
DTSTART;TZID=UTC:20241120T160000
DTEND;TZID=UTC:20241120T160000
DTSTAMP:20260423T121413
CREATED:20241011T184138Z
LAST-MODIFIED:20241112T213156Z
UID:1914-1732118400-1732118400@savouryparkcity.com
SUMMARY:Thanksgiving Dinner Order Deadline
DESCRIPTION:Gobble gobble!\nLast day to order  Thanksgiving dinner deliveries.\nMENU
URL:https://savouryparkcity.com/event/thanksgiving-turkey-order-deadline/
LOCATION:UT
END:VEVENT
END:VCALENDAR