BEGIN:VCALENDAR
VERSION:2.0
PRODID:-//Savoury Kitchen, Park City&#039;s Premier Catering Company. Hot Food for Delivery or Pickup - ECPv6.11.2.1//NONSGML v1.0//EN
CALSCALE:GREGORIAN
METHOD:PUBLISH
X-WR-CALNAME:Savoury Kitchen, Park City&#039;s Premier Catering Company. Hot Food for Delivery or Pickup
X-ORIGINAL-URL:https://savouryparkcity.com
X-WR-CALDESC:Events for Savoury Kitchen, Park City&#039;s Premier Catering Company. Hot Food for Delivery or Pickup
REFRESH-INTERVAL;VALUE=DURATION:PT1H
X-Robots-Tag:noindex
X-PUBLISHED-TTL:PT1H
BEGIN:VTIMEZONE
TZID:UTC
BEGIN:STANDARD
TZOFFSETFROM:+0000
TZOFFSETTO:+0000
TZNAME:UTC
DTSTART:20240101T000000
END:STANDARD
END:VTIMEZONE
BEGIN:VEVENT
DTSTART;TZID=UTC:20241114T170000
DTEND;TZID=UTC:20241114T170000
DTSTAMP:20260423T121300
CREATED:20241030T171347Z
LAST-MODIFIED:20241030T172308Z
UID:1943-1731603600-1731603600@savouryparkcity.com
SUMMARY:Free Turkey Contest Deadline
DESCRIPTION:In case you missed it\, we’re giving away a free Thanksgiving turkey\, and the deadline for entry is TODAY.\nTo enter the giveaway\, just head over to our Instagram account and follow the instructions. \nGood luck\, and gobble gobble! \n \n 
URL:https://savouryparkcity.com/event/free-turkey-contest-deadline/
LOCATION:UT
END:VEVENT
END:VCALENDAR