BEGIN:VCALENDAR
VERSION:2.0
PRODID:-//Savoury Kitchen, Park City&#039;s Premier Catering Company. Hot Food for Delivery or Pickup - ECPv6.11.2.1//NONSGML v1.0//EN
CALSCALE:GREGORIAN
METHOD:PUBLISH
X-ORIGINAL-URL:https://savouryparkcity.com
X-WR-CALDESC:Events for Savoury Kitchen, Park City&#039;s Premier Catering Company. Hot Food for Delivery or Pickup
REFRESH-INTERVAL;VALUE=DURATION:PT1H
X-Robots-Tag:noindex
X-PUBLISHED-TTL:PT1H
BEGIN:VTIMEZONE
TZID:UTC
BEGIN:STANDARD
TZOFFSETFROM:+0000
TZOFFSETTO:+0000
TZNAME:UTC
DTSTART:20240101T000000
END:STANDARD
END:VTIMEZONE
BEGIN:VEVENT
DTSTART;TZID=UTC:20240807T110000
DTEND;TZID=UTC:20240807T160000
DTSTAMP:20260423T162942
CREATED:20240819T184706Z
LAST-MODIFIED:20240819T184706Z
UID:1840-1723028400-1723046400@savouryparkcity.com
SUMMARY:BBQ Lunch at PC Farmers Market
DESCRIPTION:This summer\, the Market is only a few steps away from our kitchen\, so we’re setting up our tent and firing up the grill…\nStop by for a bbq lunch while you’re in the neighborhood.\nWe’d love to see (and feed) you.
URL:https://savouryparkcity.com/event/bbq-lunch-at-pc-farmers-market-11/
LOCATION:PCMR\, 1498 Lowell Avenue\, Park City\, UT\, 84060\, United States
END:VEVENT
END:VCALENDAR