BEGIN:VCALENDAR
VERSION:2.0
PRODID:-//Savoury Kitchen, Park City&#039;s Premier Catering Company. Hot Food for Delivery or Pickup - ECPv6.11.2.1//NONSGML v1.0//EN
CALSCALE:GREGORIAN
METHOD:PUBLISH
X-ORIGINAL-URL:https://savouryparkcity.com
X-WR-CALDESC:Events for Savoury Kitchen, Park City&#039;s Premier Catering Company. Hot Food for Delivery or Pickup
REFRESH-INTERVAL;VALUE=DURATION:PT1H
X-Robots-Tag:noindex
X-PUBLISHED-TTL:PT1H
BEGIN:VTIMEZONE
TZID:UTC
BEGIN:STANDARD
TZOFFSETFROM:+0000
TZOFFSETTO:+0000
TZNAME:UTC
DTSTART:20240101T000000
END:STANDARD
END:VTIMEZONE
BEGIN:VEVENT
DTSTART;TZID=UTC:20240730T120000
DTEND;TZID=UTC:20240730T180000
DTSTAMP:20260423T162942
CREATED:20240703T202017Z
LAST-MODIFIED:20240703T202017Z
UID:1812-1722340800-1722362400@savouryparkcity.com
SUMMARY:Copper Moose Farm Stand
DESCRIPTION:Look for us on the shelves at the Copper Moose Farm Stand every Tuesday and Thursday 12pm-6pm\, and Saturdays 9am-3pm. \n\nSalad Dressings\nPotato Chips\nPickles\nIce Cream
URL:https://savouryparkcity.com/event/copper-moose-farm-stand-11/
LOCATION:Copper Moose Farm\, 1285 Old Ranch Road\, Park City\, UT\, 84098
END:VEVENT
END:VCALENDAR